BEGIN:VCALENDAR
VERSION:2.0
CALSCALE:GREGORIAN
PRODID:-//Diputació de Barcelona//DibaCMS//EN
BEGIN:VEVENT
UID:715
DTSTAMP:20260424T044154
DTSTART:20260508T190000
DTEND:20260508T200000
SUMMARY:Sessió informativa banca mòbil
LOCATION:
METHOD:PUBLISH
X-WR-CALNAME:montmaneu@montmaneu.cat
X-WR-TIMEZONE:Europe/Madrid
DESCRIPTION:Sessió informativa banca mòbil

URI:https://www.montmaneu.cat/actualitat/agenda/sessio-informativa-banca-mobil.html
CLASS:PUBLIC
END:VEVENT
END:VCALENDAR
