BEGIN:VCALENDAR
VERSION:2.0
CALSCALE:GREGORIAN
PRODID:-//Diputació de Barcelona//DibaCMS//EN
BEGIN:VEVENT
UID:714
DTSTAMP:20260424T044044
DTSTART:20260515T173000
DTEND:20260515T183500
SUMMARY:Build the change
LOCATION:
METHOD:PUBLISH
X-WR-CALNAME:montmaneu@montmaneu.cat
X-WR-TIMEZONE:Europe/Madrid
DESCRIPTION:Imagina un futur més sostenible

URI:https://www.montmaneu.cat/actualitat/agenda/build-the-change.html
CLASS:PUBLIC
END:VEVENT
END:VCALENDAR
