BEGIN:VCALENDAR
VERSION:2.0
CALSCALE:GREGORIAN
PRODID:-//Diputació de Barcelona//DibaCMS//EN
BEGIN:VEVENT
UID:668
DTSTAMP:20260421T110107
DTSTART:20250908T173000
DTEND:20250908T180000
SUMMARY:Jocs de carrer per petits i grans
LOCATION:
METHOD:PUBLISH
X-WR-CALNAME:montmaneu@montmaneu.cat
X-WR-TIMEZONE:Europe/Madrid
DESCRIPTION:Tot seguit, xocolata amb melindros per tothom

URI:https://www.montmaneu.cat/actualitat/agenda/jocs-de-carrer-per-petits-i-grans.html
CLASS:PUBLIC
END:VEVENT
END:VCALENDAR
