BEGIN:VCALENDAR
VERSION:2.0
CALSCALE:GREGORIAN
PRODID:-//Diputació de Barcelona//DibaCMS//EN
BEGIN:VEVENT
UID:327
DTSTAMP:20260422T110824
DTSTART:20180615T193000
DTEND:20180615T200000
SUMMARY:Xerrada informativa àrees tancades
LOCATION:La Sala 
METHOD:PUBLISH
X-WR-CALNAME:montmaneu@montmaneu.cat
X-WR-TIMEZONE:Europe/Madrid
DESCRIPTION:
URI:https://www.montmaneu.cat/actualitat/agenda/xerrada-informativa-arees-tancades.html
CLASS:PUBLIC
END:VEVENT
END:VCALENDAR
