BEGIN:VCALENDAR
VERSION:2.0
CALSCALE:GREGORIAN
PRODID:-//Diputació de Barcelona//DibaCMS//EN
BEGIN:VEVENT
UID:278
DTSTAMP:20260424T030336
DTSTART:20170903T123000
DTEND:20170903T130000
SUMMARY:Missa solemne amb acompanyament musical de l'orquestra Rosalesa
LOCATION:
METHOD:PUBLISH
X-WR-CALNAME:montmaneu@montmaneu.cat
X-WR-TIMEZONE:Europe/Madrid
DESCRIPTION:
URI:https://www.montmaneu.cat/actualitat/agenda/missa-solemne-amb-acompanyament-musical-de-lorquestra-rosalesa.html
CLASS:PUBLIC
END:VEVENT
END:VCALENDAR
