BEGIN:VCALENDAR
VERSION:2.0
CALSCALE:GREGORIAN
PRODID:-//Diputació de Barcelona//DibaCMS//EN
BEGIN:VEVENT
UID:277
DTSTAMP:20260424T030856
DTSTART:20170903T103000
DTEND:20170903T110000
SUMMARY:Cercavila
LOCATION:
METHOD:PUBLISH
X-WR-CALNAME:montmaneu@montmaneu.cat
X-WR-TIMEZONE:Europe/Madrid
DESCRIPTION:amb els gegants Tararots i Nans de Tàrrega i Grallers Corral Nou i estrena dels capgrossos de Montmaneu

URI:https://www.montmaneu.cat/actualitat/agenda/cercavila.html
CLASS:PUBLIC
END:VEVENT
END:VCALENDAR
