BEGIN:VCALENDAR
VERSION:2.0
CALSCALE:GREGORIAN
PRODID:-//Diputació de Barcelona//DibaCMS//EN
BEGIN:VEVENT
UID:271
DTSTAMP:20260424T030821
DTSTART:20170902T090000
DTEND:20170902T110000
SUMMARY:Caminada popular
LOCATION:
METHOD:PUBLISH
X-WR-CALNAME:montmaneu@montmaneu.cat
X-WR-TIMEZONE:Europe/Madrid
DESCRIPTION:a La Font de La Panadella i esmorzar.

URI:https://www.montmaneu.cat/actualitat/agenda/caminada-popular.html
CLASS:PUBLIC
END:VEVENT
END:VCALENDAR
