BEGIN:VCALENDAR
VERSION:2.0
CALSCALE:GREGORIAN
PRODID:-//Diputació de Barcelona//DibaCMS//EN
BEGIN:VEVENT
UID:270
DTSTAMP:20260424T044410
DTSTART:20170902T000000
DTEND:20170902T020000
SUMMARY:Actuació Mariachi Barcelona i show woman d'humor Mayte Carreras
LOCATION:Plaça Major 
METHOD:PUBLISH
X-WR-CALNAME:montmaneu@montmaneu.cat
X-WR-TIMEZONE:Europe/Madrid
DESCRIPTION:
URI:https://www.montmaneu.cat/actualitat/agenda/actuacio-mariachi-barcelona-i-show-woman-dhumor-mayte-carreras.html
CLASS:PUBLIC
END:VEVENT
END:VCALENDAR
